BEGIN:VCALENDAR
VERSION:2.0
PRODID:-//AJ Billig //NONSGML Events //EN
CALSCALE:GREGORIAN
BEGIN:VEVENT
DTSTART:20201208T160000Z
DTEND:20201208T160000Z
UID:48195
DTSTAMP:20201208T160000Z
LOCATION:3203 Independence Street\,Baltimore\,MD\,21218
SUMMARY: A.J. Billig & Company auction:   Buy It Now: $60,000 - "Better Waverly"
ORGANIZER: A.J. Billig & Company auction 
DESCRIPTION: Two Story Semi-Detached Home
Rented for $1,100/month  2020-12-08 10:50:00 - 2020-12-08 11:00:00
URL;VALUE=URI:https://ajbillig.com/?p=48195
END:VEVENT
END:VCALENDAR
