BEGIN:VCALENDAR
VERSION:2.0
PRODID:-//AJ Billig //NONSGML Events //EN
CALSCALE:GREGORIAN
BEGIN:VEVENT
DTSTART:20201216T185500Z
DTEND:20201216T185500Z
UID:47870
DTSTAMP:20201216T185500Z
LOCATION:3504 Woodbrook Avenue\,Baltimore\,MD\,21217
SUMMARY: A.J. Billig & Company auction:   "Parkview - Woodbrook" - Receiver's Auction
ORGANIZER: A.J. Billig & Company auction 
DESCRIPTION: Three story inside-group brick townhome. - Requiring Renovation  2020-12-16 13:45:00 - 2020-12-16 13:55:00
URL;VALUE=URI:https://ajbillig.com/?p=47870
END:VEVENT
END:VCALENDAR
