BEGIN:VCALENDAR
VERSION:2.0
PRODID:-//AJ Billig //NONSGML Events //EN
CALSCALE:GREGORIAN
BEGIN:VEVENT
DTSTART:20210713T170000Z
DTEND:20210713T170000Z
UID:47223
DTSTAMP:20210713T170000Z
LOCATION:900-924 E. Monument Street & 709 Harford Avenue\,Baltimore\,MD\,21202
SUMMARY: A.J. Billig & Company auction:   "Downtown Baltimore - Oldtown - HUB Zone"
ORGANIZER: A.J. Billig & Company auction 
DESCRIPTION: Redevelopment Opportunity
Corner Industrial Site
0.609+/- Acre - Zoned I-MU  2021-07-13 11:50:00 - 2021-07-13 12:00:00
URL;VALUE=URI:https://ajbillig.com/?p=47223
END:VEVENT
END:VCALENDAR
