BEGIN:VCALENDAR
VERSION:2.0
PRODID:-//AJ Billig //NONSGML Events //EN
CALSCALE:GREGORIAN
BEGIN:VEVENT
DTSTART:20210721T160000Z
DTEND:20210721T160000Z
UID:47208
DTSTAMP:20210721T160000Z
LOCATION:16626 York Road\,Monkton\,MD\,21111
SUMMARY: A.J. Billig & Company auction:   "Monkton - Northern Baltimore County"
ORGANIZER: A.J. Billig & Company auction 
DESCRIPTION: 10.25+/- Acre Farmette
Contemporary Home, Pool,
Large Multi-Purpose Barn Building
& Clear Acreage  2021-07-21 10:50:00 - 2021-07-21 11:00:00
URL;VALUE=URI:https://ajbillig.com/?p=47208
END:VEVENT
END:VCALENDAR
