BEGIN:VCALENDAR
VERSION:2.0
PRODID:-//AJ Billig //NONSGML Events //EN
CALSCALE:GREGORIAN
BEGIN:VEVENT
DTSTART:20210715T160000Z
DTEND:20210715T160000Z
UID:47169
DTSTAMP:20210715T160000Z
LOCATION:5263 Saint Charles Avenue\,Baltimore\,MD\,21215
SUMMARY: A.J. Billig & Company auction:   "Arlington"
ORGANIZER: A.J. Billig & Company auction 
DESCRIPTION: Two Story Detached Home
LEAD FREE  2021-07-15 10:50:00 - 2021-07-15 11:00:00
URL;VALUE=URI:https://ajbillig.com/?p=47169
END:VEVENT
END:VCALENDAR
