BEGIN:VCALENDAR
VERSION:2.0
PRODID:-//AJ Billig //NONSGML Events //EN
CALSCALE:GREGORIAN
BEGIN:VEVENT
DTSTART:20210610T170500Z
DTEND:20210610T170500Z
UID:47003
DTSTAMP:20210610T170500Z
LOCATION:520 N. Pulaski Street\,Baltimore\,MD\,21223
SUMMARY: A.J. Billig & Company auction:   "Midtown-Edmondson" - Receiver's Auction
ORGANIZER: A.J. Billig & Company auction 
DESCRIPTION: Two story brick inside-group shell townhome. - Requiring Renovation  2021-06-10 11:55:00 - 2021-06-10 12:05:00
URL;VALUE=URI:https://ajbillig.com/?p=47003
END:VEVENT
END:VCALENDAR
