BEGIN:VCALENDAR
VERSION:2.0
PRODID:-//AJ Billig //NONSGML Events //EN
CALSCALE:GREGORIAN
BEGIN:VEVENT
DTSTART:20210610T174500Z
DTEND:20210610T174500Z
UID:46987
DTSTAMP:20210610T174500Z
LOCATION:3635 Reisterstown Road\,Baltimore\,MD\,21215
SUMMARY: A.J. Billig & Company auction:   "Park Circle" - Receiver's Auction
ORGANIZER: A.J. Billig & Company auction 
DESCRIPTION: Two story brick semi-detached porchfront home. - Requiring Renovation  2021-06-10 12:35:00 - 2021-06-10 12:45:00
URL;VALUE=URI:https://ajbillig.com/?p=46987
END:VEVENT
END:VCALENDAR
