BEGIN:VCALENDAR
VERSION:2.0
PRODID:-//AJ Billig //NONSGML Events //EN
CALSCALE:GREGORIAN
BEGIN:VEVENT
DTSTART:20210805T160000Z
DTEND:20210805T160000Z
UID:46937
DTSTAMP:20210805T160000Z
LOCATION:5606 Narcissus Avenue\,Baltimore\,MD\,21215
SUMMARY: A.J. Billig & Company auction:   "N.W. Baltimore-Glen Neighborhood"
ORGANIZER: A.J. Billig & Company auction 
DESCRIPTION: Two Story Home
3-4 Bedrooms, 2 Baths
ONLINE ONLY AUCTION  2021-08-05 10:50:00 - 2021-08-05 11:00:00
URL;VALUE=URI:https://ajbillig.com/?p=46937
END:VEVENT
END:VCALENDAR
