BEGIN:VCALENDAR
VERSION:2.0
PRODID:-//AJ Billig //NONSGML Events //EN
CALSCALE:GREGORIAN
BEGIN:VEVENT
DTSTART:20210810T161000Z
DTEND:20210810T161000Z
UID:46895
DTSTAMP:20210810T161000Z
LOCATION:856 W. 33rd Street\,Baltimore\,MD\,21211
SUMMARY: A.J. Billig & Company auction:   "Hampden" - Receiver's Auction
ORGANIZER: A.J. Billig & Company auction 
DESCRIPTION: Two story inside-group porchfront townhome. - Requiring Renovation  2021-08-10 11:00:00 - 2021-08-10 11:10:00
URL;VALUE=URI:https://ajbillig.com/?p=46895
END:VEVENT
END:VCALENDAR
