BEGIN:VCALENDAR
VERSION:2.0
PRODID:-//AJ Billig //NONSGML Events //EN
CALSCALE:GREGORIAN
BEGIN:VEVENT
DTSTART:20210810T163000Z
DTEND:20210810T163000Z
UID:46889
DTSTAMP:20210810T163000Z
LOCATION:3338 Brendan Avenue\,Baltimore\,MD\,21213
SUMMARY: A.J. Billig & Company auction:   "Belair-Edison" - Receiver's Auction
ORGANIZER: A.J. Billig & Company auction 
DESCRIPTION: Two and one-half story end-of-group townhome. - Requiring Renovation  2021-08-10 11:20:00 - 2021-08-10 11:30:00
URL;VALUE=URI:https://ajbillig.com/?p=46889
END:VEVENT
END:VCALENDAR
