BEGIN:VCALENDAR
VERSION:2.0
PRODID:-//AJ Billig //NONSGML Events //EN
CALSCALE:GREGORIAN
BEGIN:VEVENT
DTSTART:20210810T164000Z
DTEND:20210810T164000Z
UID:46885
DTSTAMP:20210810T164000Z
LOCATION:3109 Chesterfield Avenue\,Baltimore\,MD\,21213
SUMMARY: A.J. Billig & Company auction:   "Belair-Edison" - Receiver's Auction
ORGANIZER: A.J. Billig & Company auction 
DESCRIPTION: Two story brick inside-group townhome. - Requiring Renovation  2021-08-10 11:30:00 - 2021-08-10 11:40:00
URL;VALUE=URI:https://ajbillig.com/?p=46885
END:VEVENT
END:VCALENDAR
