BEGIN:VCALENDAR
VERSION:2.0
PRODID:-//AJ Billig //NONSGML Events //EN
CALSCALE:GREGORIAN
BEGIN:VEVENT
DTSTART:20210810T172000Z
DTEND:20210810T172000Z
UID:46787
DTSTAMP:20210810T172000Z
LOCATION:5017 Midwood Avenue\,Baltimore\,MD\,21212
SUMMARY: A.J. Billig & Company auction:   "Kenilworth Park" - Receiver's Auction
ORGANIZER: A.J. Billig & Company auction 
DESCRIPTION: Two story brick semi-detached porchfront home. - Requiring Renovation  2021-08-10 12:10:00 - 2021-08-10 12:20:00
URL;VALUE=URI:https://ajbillig.com/?p=46787
END:VEVENT
END:VCALENDAR
