BEGIN:VCALENDAR
VERSION:2.0
PRODID:-//AJ Billig //NONSGML Events //EN
CALSCALE:GREGORIAN
BEGIN:VEVENT
DTSTART:20210810T173000Z
DTEND:20210810T173000Z
UID:46783
DTSTAMP:20210810T173000Z
LOCATION:3504 Park Heights Avenue\,Baltimore\,MD\,21215
SUMMARY: A.J. Billig & Company auction:   "Park Circle" - Receiver's Auction
ORGANIZER: A.J. Billig & Company auction 
DESCRIPTION: Two story brick semi-detached porchfront townhome. - Requiring Renovation  2021-08-10 12:20:00 - 2021-08-10 12:30:00
URL;VALUE=URI:https://ajbillig.com/?p=46783
END:VEVENT
END:VCALENDAR
