BEGIN:VCALENDAR
VERSION:2.0
PRODID:-//AJ Billig //NONSGML Events //EN
CALSCALE:GREGORIAN
BEGIN:VEVENT
DTSTART:20210810T173500Z
DTEND:20210810T173500Z
UID:46778
DTSTAMP:20210810T173500Z
LOCATION:923 N. Patterson Park Avenue\,Baltimore\,MD\,21205
SUMMARY: A.J. Billig & Company auction:   "Milton-Montford" - Receiver's Auction
ORGANIZER: A.J. Billig & Company auction 
DESCRIPTION: Two story brick inside-group townhome - Requiring Renovation  2021-08-10 12:25:00 - 2021-08-10 12:35:00
URL;VALUE=URI:https://ajbillig.com/?p=46778
END:VEVENT
END:VCALENDAR
