BEGIN:VCALENDAR
VERSION:2.0
PRODID:-//AJ Billig //NONSGML Events //EN
CALSCALE:GREGORIAN
BEGIN:VEVENT
DTSTART:20210810T174000Z
DTEND:20210810T174000Z
UID:46776
DTSTAMP:20210810T174000Z
LOCATION:1808 N. Port Street\,Baltimore\,MD\,21213
SUMMARY: A.J. Billig & Company auction:   "Broadway East" - Receiver's Auction
ORGANIZER: A.J. Billig & Company auction 
DESCRIPTION: Two story brick inside-group shell townhome. - Requiring Renovation  2021-08-10 12:30:00 - 2021-08-10 12:40:00
URL;VALUE=URI:https://ajbillig.com/?p=46776
END:VEVENT
END:VCALENDAR
