BEGIN:VCALENDAR
VERSION:2.0
PRODID:-//AJ Billig //NONSGML Events //EN
CALSCALE:GREGORIAN
BEGIN:VEVENT
DTSTART:20210810T181000Z
DTEND:20210810T181000Z
UID:46764
DTSTAMP:20210810T181000Z
LOCATION:3043 Spaulding Avenue\,Baltimore\,MD\,21215
SUMMARY: A.J. Billig & Company auction:   "Central Park Heights" - Receiver's Auction
ORGANIZER: A.J. Billig & Company auction 
DESCRIPTION: Two story brick inside-group porchfront townhome. - Requiring Renovation  2021-08-10 13:00:00 - 2021-08-10 13:10:00
URL;VALUE=URI:https://ajbillig.com/?p=46764
END:VEVENT
END:VCALENDAR
