BEGIN:VCALENDAR
VERSION:2.0
PRODID:-//AJ Billig //NONSGML Events //EN
CALSCALE:GREGORIAN
BEGIN:VEVENT
DTSTART:20210810T181500Z
DTEND:20210810T181500Z
UID:46762
DTSTAMP:20210810T181500Z
LOCATION:3045 Spaulding Avenue\,Baltimore\,MD\,21215
SUMMARY: A.J. Billig & Company auction:   "Central Park Heights" - Receiver's Auction
ORGANIZER: A.J. Billig & Company auction 
DESCRIPTION: Two story brick inside-group porchfront townhome. - Requiring Renovation  2021-08-10 13:05:00 - 2021-08-10 13:15:00
URL;VALUE=URI:https://ajbillig.com/?p=46762
END:VEVENT
END:VCALENDAR
