BEGIN:VCALENDAR
VERSION:2.0
PRODID:-//AJ Billig //NONSGML Events //EN
CALSCALE:GREGORIAN
BEGIN:VEVENT
DTSTART:20210810T182000Z
DTEND:20210810T182000Z
UID:46760
DTSTAMP:20210810T182000Z
LOCATION:1550 N. Woodyear Street\,Baltimore\,MD\,21217
SUMMARY: A.J. Billig & Company auction:   "Sandtown-Winchester" - Receiver's Auction
ORGANIZER: A.J. Billig & Company auction 
DESCRIPTION: Two story brick inside-group shell townhome. - Requiring Renovation  2021-08-10 13:10:00 - 2021-08-10 13:20:00
URL;VALUE=URI:https://ajbillig.com/?p=46760
END:VEVENT
END:VCALENDAR
