BEGIN:VCALENDAR
VERSION:2.0
PRODID:-//AJ Billig //NONSGML Events //EN
CALSCALE:GREGORIAN
BEGIN:VEVENT
DTSTART:20211012T163000Z
DTEND:20211012T163000Z
UID:46461
DTSTAMP:20211012T163000Z
LOCATION:2712 Elsinore Avenue\,Baltimore\,MD\,21216
SUMMARY: A.J. Billig & Company auction:   "Garwyn Oaks" - Receiver's Auction
ORGANIZER: A.J. Billig & Company auction 
DESCRIPTION: Two and one-half story shingle traditional home with wrap around porch. - Requiring Renovation  2021-10-12 11:20:00 - 2021-10-12 11:30:00
URL;VALUE=URI:https://ajbillig.com/?p=46461
END:VEVENT
END:VCALENDAR
