BEGIN:VCALENDAR
VERSION:2.0
PRODID:-//AJ Billig //NONSGML Events //EN
CALSCALE:GREGORIAN
BEGIN:VEVENT
DTSTART:20211012T170000Z
DTEND:20211012T170000Z
UID:46449
DTSTAMP:20211012T170000Z
LOCATION:2608 E. Oliver Street\,Baltimore\,MD\,21213
SUMMARY: A.J. Billig & Company auction:   "Berea" - Receiver's Auction
ORGANIZER: A.J. Billig & Company auction 
DESCRIPTION: Two story brick inside-group shell townhome. - Requiring Renovation  2021-10-12 11:50:00 - 2021-10-12 12:00:00
URL;VALUE=URI:https://ajbillig.com/?p=46449
END:VEVENT
END:VCALENDAR
