BEGIN:VCALENDAR
VERSION:2.0
PRODID:-//AJ Billig //NONSGML Events //EN
CALSCALE:GREGORIAN
BEGIN:VEVENT
DTSTART:20211109T160000Z
DTEND:20211109T160000Z
UID:46342
DTSTAMP:20211109T160000Z
LOCATION:1612 Hazel Street\,Baltimore\,MD\,21226
SUMMARY: A.J. Billig & Company auction:   "Curtis Bay" - Receiver's Auction
ORGANIZER: A.J. Billig & Company auction 
DESCRIPTION: Two story brick inside-group porchfront townhome. - Requiring Renovation  2021-11-09 10:50:00 - 2021-11-09 11:00:00
URL;VALUE=URI:https://ajbillig.com/?p=46342
END:VEVENT
END:VCALENDAR
