BEGIN:VCALENDAR
VERSION:2.0
PRODID:-//AJ Billig //NONSGML Events //EN
CALSCALE:GREGORIAN
BEGIN:VEVENT
DTSTART:20220222T162000Z
DTEND:20220222T162000Z
UID:46062
DTSTAMP:20220222T162000Z
LOCATION:3936 Dolfield Avenue\,Baltimore\,MD\,21215
SUMMARY: A.J. Billig & Company auction:   "Dolfield" - Receiver's Auction
ORGANIZER: A.J. Billig & Company auction 
DESCRIPTION: Two story brick inside-group porchfront townhome. - Requiring Renovation  2022-02-22 11:10:00 - 2022-02-22 11:20:00
URL;VALUE=URI:https://ajbillig.com/?p=46062
END:VEVENT
END:VCALENDAR
