BEGIN:VCALENDAR
VERSION:2.0
PRODID:-//AJ Billig //NONSGML Events //EN
CALSCALE:GREGORIAN
BEGIN:VEVENT
DTSTART:20220222T170000Z
DTEND:20220222T170000Z
UID:46038
DTSTAMP:20220222T170000Z
LOCATION:432 Pitman Place\,Baltimore\,MD\,21202
SUMMARY: A.J. Billig & Company auction:   "Greenmount West" - Receiver's Auction
ORGANIZER: A.J. Billig & Company auction 
DESCRIPTION: Two story brick inside-group shell townhome. - Requiring Renovation  2022-02-22 11:50:00 - 2022-02-22 12:00:00
URL;VALUE=URI:https://ajbillig.com/?p=46038
END:VEVENT
END:VCALENDAR
