BEGIN:VCALENDAR
VERSION:2.0
PRODID:-//AJ Billig //NONSGML Events //EN
CALSCALE:GREGORIAN
BEGIN:VEVENT
DTSTART:20220621T160000Z
DTEND:20220621T160000Z
UID:45581
DTSTAMP:20220621T160000Z
LOCATION:720 E. 23rd Street\,Baltimore\,MD\,21218-5411
SUMMARY: A.J. Billig & Company auction:   "East Baltimore Midway" - Receiver's Auction
ORGANIZER: A.J. Billig & Company auction 
DESCRIPTION: Two story brick inside-group porchfront townhome. - Requiring Renovation  2022-06-21 10:50:00 - 2022-06-21 11:00:00
URL;VALUE=URI:https://ajbillig.com/?p=45581
END:VEVENT
END:VCALENDAR
