BEGIN:VCALENDAR
VERSION:2.0
PRODID:-//AJ Billig //NONSGML Events //EN
CALSCALE:GREGORIAN
BEGIN:VEVENT
DTSTART:20220621T174000Z
DTEND:20220621T174000Z
UID:45541
DTSTAMP:20220621T174000Z
LOCATION:1630 Hazel Street\,Baltimore\,MD\,21226-1343
SUMMARY: A.J. Billig & Company auction:   "Curtis Bay" - Receiver's Auction
ORGANIZER: A.J. Billig & Company auction 
DESCRIPTION: Two story brick inside-group porchfront townhome. - Requiring Renovation  2022-06-21 12:30:00 - 2022-06-21 12:40:00
URL;VALUE=URI:https://ajbillig.com/?p=45541
END:VEVENT
END:VCALENDAR
