BEGIN:VCALENDAR
VERSION:2.0
PRODID:-//AJ Billig //NONSGML Events //EN
CALSCALE:GREGORIAN
BEGIN:VEVENT
DTSTART:20220621T175000Z
DTEND:20220621T175000Z
UID:45537
DTSTAMP:20220621T175000Z
LOCATION:4001 Maine Avenue\,Baltimore\,MD\,21207-7509
SUMMARY: A.J. Billig & Company auction:   "Central Forest Park" - Receiver's Auction
ORGANIZER: A.J. Billig & Company auction 
DESCRIPTION: Three story covered porchfront cottage. - Requiring Renovation  2022-06-21 12:40:00 - 2022-06-21 12:50:00
URL;VALUE=URI:https://ajbillig.com/?p=45537
END:VEVENT
END:VCALENDAR
