BEGIN:VCALENDAR
VERSION:2.0
PRODID:-//AJ Billig //NONSGML Events //EN
CALSCALE:GREGORIAN
BEGIN:VEVENT
DTSTART:20220621T180000Z
DTEND:20220621T180000Z
UID:45533
DTSTAMP:20220621T180000Z
LOCATION:3111 Oakford Avenue\,Baltimore\,MD\,21215-6420
SUMMARY: A.J. Billig & Company auction:   "Central Park Heights" - Receiver's Auction
ORGANIZER: A.J. Billig & Company auction 
DESCRIPTION: Two story brick inside-group porchfront townhome. - Requiring Renovation  2022-06-21 12:50:00 - 2022-06-21 13:00:00
URL;VALUE=URI:https://ajbillig.com/?p=45533
END:VEVENT
END:VCALENDAR
