BEGIN:VCALENDAR
VERSION:2.0
PRODID:-//AJ Billig //NONSGML Events //EN
CALSCALE:GREGORIAN
BEGIN:VEVENT
DTSTART:20220621T182000Z
DTEND:20220621T182000Z
UID:45525
DTSTAMP:20220621T182000Z
LOCATION:2603 E. Oliver Street\,Baltimore\,MD\,21213-3739
SUMMARY: A.J. Billig & Company auction:   "Berea" - Receiver's Auction
ORGANIZER: A.J. Billig & Company auction 
DESCRIPTION: Two story brick inside-group townhome. - Requiring Renovation  2022-06-21 13:10:00 - 2022-06-21 13:20:00
URL;VALUE=URI:https://ajbillig.com/?p=45525
END:VEVENT
END:VCALENDAR
