BEGIN:VCALENDAR
VERSION:2.0
PRODID:-//AJ Billig //NONSGML Events //EN
CALSCALE:GREGORIAN
BEGIN:VEVENT
DTSTART:20220621T183500Z
DTEND:20220621T183500Z
UID:45519
DTSTAMP:20220621T183500Z
LOCATION:4820 Pimlico Road\,Baltimore\,MD\,21215-6041
SUMMARY: A.J. Billig & Company auction:   "Central Park Heights" - Receiver's Auction
ORGANIZER: A.J. Billig & Company auction 
DESCRIPTION: Two story brick end-of-group shell townhome. - Requiring Renovation  2022-06-21 13:25:00 - 2022-06-21 13:35:00
URL;VALUE=URI:https://ajbillig.com/?p=45519
END:VEVENT
END:VCALENDAR
