BEGIN:VCALENDAR
VERSION:2.0
PRODID:-//AJ Billig //NONSGML Events //EN
CALSCALE:GREGORIAN
BEGIN:VEVENT
DTSTART:20210419T180000Z
DTEND:20210419T180000Z
UID:43041
DTSTAMP:20210419T180000Z
LOCATION:3315 McElderry Street\,Baltimore\,MD\,21205
SUMMARY: A.J. Billig & Company auction:   "Ellwood Park - Monument"
ORGANIZER: A.J. Billig & Company auction 
DESCRIPTION: Two Story Townhome
ONLINE ONLY AUCTION  2021-04-19 12:50:00 - 2021-04-19 13:00:00
URL;VALUE=URI:https://ajbillig.com/?p=43041
END:VEVENT
END:VCALENDAR
