BEGIN:VCALENDAR
VERSION:2.0
PRODID:-//AJ Billig //NONSGML Events //EN
CALSCALE:GREGORIAN
BEGIN:VEVENT
DTSTART:20220524T170000Z
DTEND:20220524T170000Z
UID:40484
DTSTAMP:20220524T170000Z
LOCATION:811 N. Carey Street\,Baltimore\,MD\,21217
SUMMARY: A.J. Billig & Company auction:   "Harlem Park - Old West Baltimore Historic District
ORGANIZER: A.J. Billig & Company auction 
DESCRIPTION: Three Story Brick Townhome
5 Bedrooms & 2.5 Bathrooms
ONLINE ONLY AUCTION  2022-05-24 11:50:00 - 2022-05-24 12:00:00
URL;VALUE=URI:https://ajbillig.com/?p=40484
END:VEVENT
END:VCALENDAR
