BEGIN:VCALENDAR
VERSION:2.0
PRODID:-//AJ Billig //NONSGML Events //EN
CALSCALE:GREGORIAN
BEGIN:VEVENT
DTSTART:20260520T170000Z
DTEND:20260520T170000Z
UID:140385
DTSTAMP:20260520T170000Z
LOCATION:7 Lake Drive\,Bel Air\,MD\,21014
SUMMARY: A.J. Billig & Company auction:   "Bel Air - Evergreen Heights"
ORGANIZER: A.J. Billig & Company auction 
DESCRIPTION: Brick Traditional Home on 0.87 Acre Mature Lot - Attached Garage - Needs Renovation  2026-05-19 00:00:00 - 2026-05-20 13:00:00
URL;VALUE=URI:https://ajbillig.com/?p=140385
END:VEVENT
END:VCALENDAR
