BEGIN:VCALENDAR
VERSION:2.0
PRODID:-//AJ Billig //NONSGML Events //EN
CALSCALE:GREGORIAN
BEGIN:VEVENT
DTSTART:20260521T160000Z
DTEND:20260521T160000Z
UID:140375
DTSTAMP:20260521T160000Z
LOCATION:405 Central Avenue\,Towson\,MD\,21204
SUMMARY: A.J. Billig & Company auction:   "Towson"
ORGANIZER: A.J. Billig & Company auction 
DESCRIPTION: Fully Renovated Two Unit Building - 12+ Car Parking - Zoned ROA - 100% Occupied  2026-05-20 00:00:00 - 2026-05-21 12:00:00
URL;VALUE=URI:https://ajbillig.com/?p=140375
END:VEVENT
END:VCALENDAR
