BEGIN:VCALENDAR
VERSION:2.0
PRODID:-//AJ Billig //NONSGML Events //EN
CALSCALE:GREGORIAN
BEGIN:VEVENT
DTSTART:20260520T150000Z
DTEND:20260520T150000Z
UID:140292
DTSTAMP:20260520T150000Z
LOCATION:9207 Gardenia Road\,Perry Hall\,MD\,21236
SUMMARY: A.J. Billig & Company auction:   "Perry Hall"
ORGANIZER: A.J. Billig & Company auction 
DESCRIPTION: Two Story Brick Home  2026-05-20 11:00:00 - 2026-05-20 11:00:00
URL;VALUE=URI:https://ajbillig.com/?p=140292
END:VEVENT
END:VCALENDAR
