BEGIN:VCALENDAR
VERSION:2.0
PRODID:-//AJ Billig //NONSGML Events //EN
CALSCALE:GREGORIAN
BEGIN:VEVENT
DTSTART:20250919T160000Z
DTEND:20250919T160000Z
UID:129630
DTSTAMP:20250919T160000Z
LOCATION:5810 Ritchie Highway\,Baltimore\,MD\,21225
SUMMARY: A.J. Billig & Company auction:   "Northern Anne Arundel County - Glen Burnie - Brooklyn Park Area"
ORGANIZER: A.J. Billig & Company auction 
DESCRIPTION: Automotive Dealership Building On 1.26± Acres - Zoned C-4 - 28,729 Sq. Ft. GBA - 3 Parcels - 38,570 AADT - Development Opportunity  2025-09-17 00:00:00 - 2025-09-19 12:00:00
URL;VALUE=URI:https://ajbillig.com/?p=129630
END:VEVENT
END:VCALENDAR
