BEGIN:VCALENDAR
VERSION:2.0
PRODID:-//AJ Billig //NONSGML Events //EN
CALSCALE:GREGORIAN
BEGIN:VEVENT
DTSTART:20250724T150000Z
DTEND:20250724T150000Z
UID:127685
DTSTAMP:20250724T150000Z
LOCATION:5109 Park Heights Avenue\,Baltimore\,MD\,21215
SUMMARY: A.J. Billig & Company auction:   "Northwest Baltimore - Next to Pimlico Race Course"
ORGANIZER: A.J. Billig & Company auction 
DESCRIPTION: Income Producing Commercial Building - 8,016 Sq. Ft. GBA - Zoned C-1  - Opportunity Zone - $32,400 Gross Annual Income  2025-07-21 00:00:00 - 2025-07-24 11:00:00
URL;VALUE=URI:https://ajbillig.com/?p=127685
END:VEVENT
END:VCALENDAR
