BEGIN:VCALENDAR
VERSION:2.0
PRODID:-//AJ Billig //NONSGML Events //EN
CALSCALE:GREGORIAN
BEGIN:VEVENT
DTSTART:20231108T140000Z
DTEND:20231108T140000Z
UID:103615
DTSTAMP:20231108T140000Z
LOCATION:335 W. Arden Road\,Baltimore\,MD\,21225
SUMMARY: A.J. Billig & Company auction:   "Brooklyn"
ORGANIZER: A.J. Billig & Company auction 
DESCRIPTION: Single Family Dwelling  2023-11-08 09:00:00 - 2023-11-08 09:00:00
URL;VALUE=URI:https://ajbillig.com/?p=103615
END:VEVENT
END:VCALENDAR
